BEGIN:VCALENDAR
METHOD:PUBLISH
X-WR-TIMEZONE:America/Chicago
PRODID:-//Hold My Ticket.//HMT Web App//EN
CALSCALE:GREGORIAN
METHOD:PUBLISH
X-WR-CALNAME:Threadgill's 
X-WR-CALDESC:Upcoming events at Threadgill's 
BEGIN:VTIMEZONE
TZID:America/Chicago 
END:VTIMEZONE
BEGIN:VEVENT
SEQUENCE:2
TRANSP:OPAQUE
UID:ea5eb9dcc42a67612f9c20bfba3eefde
DTSTART:20190118T200000
DTSTAMP:20190118T160156Z
SUMMARY: Songwriters Series: Wendy Colonna
DESCRIPTION:Wendy is a seasoned troubadour and a new mother who hails from the gulf coast of Louisiana and has called central Texas home since 2000. 
CREATED:20190118T160156Z
URL;VALUE=URI:http://holdmyticket.com/event/329945 

DTEND:20190118T220000
END:VEVENT
END:VCALENDAR