BEGIN:VCALENDAR
METHOD:PUBLISH
X-WR-TIMEZONE:America/Chicago
PRODID:-//Hold My Ticket.//HMT Web App//EN
CALSCALE:GREGORIAN
METHOD:PUBLISH
X-WR-CALNAME:Threadgill's 
X-WR-CALDESC:Upcoming events at Threadgill's 
BEGIN:VTIMEZONE
TZID:America/Chicago 
END:VTIMEZONE
BEGIN:VEVENT
SEQUENCE:2
TRANSP:OPAQUE
UID:e17149c6517e5d8dfa06bd799908bd71
DTSTART:20190119T200000
DTSTAMP:20190119T160158Z
SUMMARY:Songwriters Series: The Staehely Brothers
DESCRIPTION:Austin natives and formerly of the band Spirit, the Staehely Brothers' rich musical history dates back to the classic, 1970s era of rock-n-roll. 
CREATED:20190119T160158Z
URL;VALUE=URI:http://holdmyticket.com/event/329946 

DTEND:20190119T220000
END:VEVENT
END:VCALENDAR