BEGIN:VCALENDAR
METHOD:PUBLISH
X-WR-TIMEZONE:America/Chicago
PRODID:-//Hold My Ticket.//HMT Web App//EN
CALSCALE:GREGORIAN
METHOD:PUBLISH
X-WR-CALNAME:Threadgill's 
X-WR-CALDESC:Upcoming events at Threadgill's 
BEGIN:VTIMEZONE
TZID:America/Chicago 
END:VTIMEZONE
BEGIN:VEVENT
SEQUENCE:2
TRANSP:OPAQUE
UID:81acbe3a7b3315d8e3b1ac79f74dba74
DTSTART:20190126T200000
DTSTAMP:20190126T160159Z
SUMMARY:Songwriters Series: Guy Forsyth
DESCRIPTION:Austin's Guy Forsyth has long enjoyed praise for his dazzling live shows and rich Americana and Blues roots sound. His songs incorporate a unique mixture of styles and his sound is at once polished, raw, compelling and irresistibly rump-shaking.
CREATED:20190126T160159Z
URL;VALUE=URI:http://holdmyticket.com/event/329948 

DTEND:20190126T220000
END:VEVENT
END:VCALENDAR