BEGIN:VCALENDAR
METHOD:PUBLISH
X-WR-TIMEZONE:America/Los_Angeles
PRODID:-//Hold My Ticket.//HMT Web App//EN
CALSCALE:GREGORIAN
METHOD:PUBLISH
X-WR-CALNAME:Downbeat Lounge
X-WR-CALDESC:Upcoming events at Downbeat Lounge
BEGIN:VTIMEZONE
TZID:America/Los_Angeles 
END:VTIMEZONE
BEGIN:VEVENT
SEQUENCE:2
TRANSP:OPAQUE
UID:8dff5ce56f5369fab598c50f74bd2e46
DTSTART:20190111T210000
DTSTAMP:20190111T170137Z
SUMMARY:Downtown Throwdown at Downbeat Lounge
DESCRIPTION:Alternative rock group KaiRoots plays Downbeat Lounge with punk rockers Mistermeaner

January 11
9pm
21+
$5

Downbeat Lounge
42 N Hotel Street
Honolulu, HI 96817

KaiRoots is a rock band from Honolulu, HI
https://www.reverbnation.com/kairoots
https://www.facebook.com/KairootsMusic-Official-1633629736744451/

Mistermeaner is a hardcore punk band that started in the early 90s in a two bedroom apt. in Palolo Valley playing live shows for over 15 years and going strong
https://www.facebook.com/MistermeaneR-61242171034/
CREATED:20190111T170137Z
URL;VALUE=URI:http://holdmyticket.com/event/330081 

DTEND:20190112T010000
END:VEVENT
END:VCALENDAR