BEGIN:VCALENDAR
METHOD:PUBLISH
X-WR-TIMEZONE:America/Los_Angeles
PRODID:-//Hold My Ticket.//HMT Web App//EN
CALSCALE:GREGORIAN
METHOD:PUBLISH
X-WR-CALNAME:Downbeat Lounge
X-WR-CALDESC:Upcoming events at Downbeat Lounge
BEGIN:VTIMEZONE
TZID:America/Los_Angeles 
END:VTIMEZONE
BEGIN:VEVENT
SEQUENCE:2
TRANSP:OPAQUE
UID:f5dc423ce1cf6e41a39f96f6bbbe0b52
DTSTART:20190117T190000
DTSTAMP:20190117T150123Z
SUMMARY:Karaoke at Downbeat Lounge
DESCRIPTION:Be a rock star with Karaoke at Downbeat Lounge. Get some liquid courage and use the Lounge's new karaoke machine. $1 a song.

January 17
7pm
21+
No Cover

Downbeat Lounge
42 N Hotel Street
Honolulu, HI 96817
CREATED:20190117T150123Z
URL;VALUE=URI:http://holdmyticket.com/event/330110 

DTEND:20190118T010000
END:VEVENT
END:VCALENDAR