BEGIN:VCALENDAR
METHOD:PUBLISH
X-WR-TIMEZONE:America/Chicago
PRODID:-//Hold My Ticket.//HMT Web App//EN
CALSCALE:GREGORIAN
METHOD:PUBLISH
X-WR-CALNAME:Threadgill's 
X-WR-CALDESC:Upcoming events at Threadgill's 
BEGIN:VTIMEZONE
TZID:America/Chicago 
END:VTIMEZONE
BEGIN:VEVENT
SEQUENCE:2
TRANSP:OPAQUE
UID:ad1e502f867ea26cffed017ba22ecf80
DTSTART:20190201T200000
DTSTAMP:20190201T160127Z
SUMMARY:Songwriters Series: Michael Hearne &amp; Shake Russell
DESCRIPTION:Michael Hearne and Shake Russell have joined forces on their first duo recording - "Only As Strong As Your Dreams" released on Howlin' Dog Records! Come out for an evening of incredible music and food. 

CREATED:20190201T160127Z
URL;VALUE=URI:http://holdmyticket.com/event/330257 

DTEND:20190201T220000
END:VEVENT
END:VCALENDAR