BEGIN:VCALENDAR
METHOD:PUBLISH
X-WR-TIMEZONE:America/Denver
PRODID:-//Hold My Ticket.//HMT Web App//EN
CALSCALE:GREGORIAN
METHOD:PUBLISH
X-WR-CALNAME:Angel Fire Resort
X-WR-CALDESC:Upcoming events at Angel Fire Resort
BEGIN:VTIMEZONE
TZID:America/Denver 
END:VTIMEZONE
BEGIN:VEVENT
SEQUENCE:2
TRANSP:OPAQUE
UID:443516e8129ec4f2d066eff72257aea4
DTSTART:20190208T120000
DTSTAMP:20190208T080201Z
SUMMARY:World Championship Shovel Races
DESCRIPTION:Join us for a fun-filled weekend of high-speed shovel racing. The Angel Fire Resort shovel races even made Jettsetter's list of 11 Craziest Winter Adventures and Men's Journal as a World Championships You Can Win!

If you don't want to jump on a shovel and race down the mountain, this event is still a must-attend while in Angel Fire! Party like a local and watch the races unfold while you enjoy a few drinks at the cash bar. After the races, stick around for live music &amp; the Awards Ceremony in The Village Haus by Katy P and the Business.
CREATED:20190208T080201Z
URL;VALUE=URI:http://holdmyticket.com/event/330562 

DTEND:20190209T200000
END:VEVENT
END:VCALENDAR