BEGIN:VCALENDAR
METHOD:PUBLISH
X-WR-TIMEZONE:America/Denver
PRODID:-//Hold My Ticket.//HMT Web App//EN
CALSCALE:GREGORIAN
METHOD:PUBLISH
X-WR-CALNAME:The Oriental Theater
X-WR-CALDESC:Upcoming events at The Oriental Theater
BEGIN:VTIMEZONE
TZID:America/Denver 
END:VTIMEZONE
BEGIN:VEVENT
SEQUENCE:2
TRANSP:OPAQUE
UID:8bac91c2eb7d9c265ff70ba324615ae9
DTSTART:20190222T200000
DTSTAMP:20190222T160105Z
SUMMARY:Lucha Libre and Laughs: Equal Fights Night 1
DESCRIPTION:
CREATED:20190222T160105Z
URL;VALUE=URI:http://holdmyticket.com/event/331102 

DTEND:20190222T234500
END:VEVENT
END:VCALENDAR