BEGIN:VCALENDAR
METHOD:PUBLISH
X-WR-TIMEZONE:America/Los_Angeles
PRODID:-//Hold My Ticket.//HMT Web App//EN
CALSCALE:GREGORIAN
METHOD:PUBLISH
X-WR-CALNAME:Humboldt Brews
X-WR-CALDESC:Upcoming events at Humboldt Brews
BEGIN:VTIMEZONE
TZID:America/Los_Angeles 
END:VTIMEZONE
BEGIN:VEVENT
SEQUENCE:2
TRANSP:OPAQUE
UID:63563e1e0b96c943092ae623cdf0be67
DTSTART:20190129T180000
DTSTAMP:20190129T140140Z
SUMMARY:Trivia Night at Humbrews
DESCRIPTION:A fully hosted trivia game with questions from a wide variety of topics.  Most fun when played with a team of friends, the questions are designed for everyone to be able to participate.  Upbeat music selections are played after each question, giving teams the length of one song to collaborate and turn in an answer.  Teams can also apply varied point values to their answers based on their confidence levels. 
CREATED:20190129T140140Z
URL;VALUE=URI:http://holdmyticket.com/event/331106 

DTEND:20190129T200000
END:VEVENT
END:VCALENDAR