BEGIN:VCALENDAR
METHOD:PUBLISH
X-WR-TIMEZONE:America/Los_Angeles
PRODID:-//Hold My Ticket.//HMT Web App//EN
CALSCALE:GREGORIAN
METHOD:PUBLISH
X-WR-CALNAME:Humboldt Brews
X-WR-CALDESC:Upcoming events at Humboldt Brews
BEGIN:VTIMEZONE
TZID:America/Los_Angeles 
END:VTIMEZONE
BEGIN:VEVENT
SEQUENCE:2
TRANSP:OPAQUE
UID:1b2e0943d7e0df3e3f4bd6000c103cc3
DTSTART:20190201T213000
DTSTAMP:20190201T180126Z
SUMMARY:Money
DESCRIPTION:MONEY is Humboldt County's own homegrown Pink Floyd tribute.
Since 2015 the band has built a reputation for stellar live shows, delivered in classic 70's quartet style. MONEY has performed several of Pink Floyd's most popular albums in full, and anything is possible when the band takes the stage. Excited to return to Humbrews for a full night of music and surprises, again featuring mind-blowing lights and projections by local wiz Shawn Lei.
CREATED:20190201T180126Z
URL;VALUE=URI:http://holdmyticket.com/event/331110 

DTEND:20190202T003000
END:VEVENT
END:VCALENDAR