BEGIN:VCALENDAR
METHOD:PUBLISH
X-WR-TIMEZONE:America/Los_Angeles
PRODID:-//Hold My Ticket.//HMT Web App//EN
CALSCALE:GREGORIAN
METHOD:PUBLISH
X-WR-CALNAME:Humboldt Brews
X-WR-CALDESC:Upcoming events at Humboldt Brews
BEGIN:VTIMEZONE
TZID:America/Los_Angeles 
END:VTIMEZONE
BEGIN:VEVENT
SEQUENCE:2
TRANSP:OPAQUE
UID:1716c1324c23f5e6a6fcf07c566826a2
DTSTART:20190202T210000
DTSTAMP:20190202T170147Z
SUMMARY:Grateful Dead Dance Party
DESCRIPTION:Its time once again to dance to the grateful dead! Going to be showing a complete show  loud through the humbrews system! Lightshow and video hosted by marmalade sky, more details soon! $5 . Hope to see you on the dance floor!
CREATED:20190202T170147Z
URL;VALUE=URI:http://holdmyticket.com/event/331114 

DTEND:20190203T003000
END:VEVENT
END:VCALENDAR