BEGIN:VCALENDAR
METHOD:PUBLISH
X-WR-TIMEZONE:America/Los_Angeles
PRODID:-//Hold My Ticket.//HMT Web App//EN
CALSCALE:GREGORIAN
METHOD:PUBLISH
X-WR-CALNAME:Downbeat Lounge
X-WR-CALDESC:Upcoming events at Downbeat Lounge
BEGIN:VTIMEZONE
TZID:America/Los_Angeles 
END:VTIMEZONE
BEGIN:VEVENT
SEQUENCE:2
TRANSP:OPAQUE
UID:721398efb4fb9de23aaa35d6b651851f
DTSTART:20190202T210000
DTSTAMP:20190202T170147Z
SUMMARY:Sasstronaughts EP Release at Downbeat
DESCRIPTION:Bass Face presents the Sasstronaughts EP Release at Downbeat Lounge. The indie emo band is joined by fellow local acts Jikininki, Goon Lei Goon and The Common Dandies

February 2
9pm
18+
$5

Downbeat Lounge
42 N Hotel Street
Honolulu, HI 96817

Sasstronaughts are an indie emo rock band from Honolulu, HI
https://www.facebook.com/Sasstronaughts/
https://sasstronaughts.bandcamp.com/

The Common Dandies are an indie rock band from the mainland, now posting up in Honolulu, HI 
https://www.instagram.com/thecommondandies/

Jikininki is an indie rock band from Honolulu, HI
https://www.instagram.com/jikininkiband/

Goon Lei Goon is a new indie rock / chillwave group from Honolulu, HI
https://www.instagram.com/goon_lei_goon/?hl=en
https://goonleigoon.bandcamp.com/releases
CREATED:20190202T170147Z
URL;VALUE=URI:http://holdmyticket.com/event/331432 

DTEND:20190203T010000
END:VEVENT
END:VCALENDAR