BEGIN:VCALENDAR
METHOD:PUBLISH
X-WR-TIMEZONE:America/Chicago
PRODID:-//Hold My Ticket.//HMT Web App//EN
CALSCALE:GREGORIAN
METHOD:PUBLISH
X-WR-CALNAME:Threadgill's 
X-WR-CALDESC:Upcoming events at Threadgill's 
BEGIN:VTIMEZONE
TZID:America/Chicago 
END:VTIMEZONE
BEGIN:VEVENT
SEQUENCE:2
TRANSP:OPAQUE
UID:b65dcf49f219dd5f897298daff633875
DTSTART:20190224T183000
DTSTAMP:20190224T150152Z
SUMMARY:Soul of a Musician Series presents: Jenifer Jackson
DESCRIPTION:Join us for a free, intimate, family-friendly performance series featuring music &amp; conversation with Austin's finest musicians &amp; songwriters, hosted by St. Matthew's.
CREATED:20190224T150152Z
URL;VALUE=URI:http://holdmyticket.com/event/331443 

DTEND:20190224T203000
END:VEVENT
END:VCALENDAR