BEGIN:VCALENDAR
METHOD:PUBLISH
X-WR-TIMEZONE:America/Los_Angeles
PRODID:-//Hold My Ticket.//HMT Web App//EN
CALSCALE:GREGORIAN
METHOD:PUBLISH
X-WR-CALNAME:Downbeat Lounge
X-WR-CALDESC:Upcoming events at Downbeat Lounge
BEGIN:VTIMEZONE
TZID:America/Los_Angeles 
END:VTIMEZONE
BEGIN:VEVENT
SEQUENCE:2
TRANSP:OPAQUE
UID:64972ece72dbcd025bb01373487a47e6
DTSTART:20190208T210000
DTSTAMP:20190208T170202Z
SUMMARY:Kaleidoscope - Chinese New Year Edition
DESCRIPTION:DJ Jet Boy presents a special Chinese New Year edition of Kaleidoscope with live music from indie rock bands Ragamuffs, The Chronies and Mano Kane

February 8
9pm
21+
$5

Downbeat Lounge
42 N Hotel Street
Honolulu, HI 96817

Ragamuffs are a Honolulu based indie rock band
https://www.instagram.com/ragamuffs/
https://www.facebook.com/ragamuffsmusic/
https://ragamuffs.wordpress.com/

The Chronies (pronounced "crow-knees") is a rock band based in Honolulu, Hawai'i. Formed in 2015, the band currently consists of singer-bassist Landan Tolentino, guitarist Austin Fox, and drummer Corey Quinones. The trio has managed to successfully meld their various backgrounds in Hawaiian music, Dub Reggae, Hip Hop and Classic Rock into a simultaneously nostalgic-yet-refreshing performance.
https://www.facebook.com/thechroniesmusic/
https://soundcloud.com/the-chronies

MANO KANE have made a name for themselves playing everywhere from Hawaii Theater, Mercury Bar and Thirtynine Hotel. Fusing Beat Scene, Mod grooves and thrashing rock n' roll, they have returned to the Honolulu nightlife after a stint on The East Coast.
https://www.facebook.com/Mano-Kane-132919866718482/
https://manokane.bandcamp.com/releases
https://thegroovees.bandcamp.com/releases

KALEIDOSCOPE is an indie music concept created by Josh86 and DJ Disco Rude in 2003, to showcase local bands that fall outside of the mainstream. The genres explored range from punk to soul to disco to folk. It helped build a scene with acts such as Linus the Band, The Malcognitas, The Fourth Wall, At Sea, Painted Highways, Gary Liu, Montclaire and more
https://www.facebook.com/kscopehi/
CREATED:20190208T170202Z
URL;VALUE=URI:http://holdmyticket.com/event/331967 

DTEND:20190209T020000
END:VEVENT
END:VCALENDAR