BEGIN:VCALENDAR
METHOD:PUBLISH
X-WR-TIMEZONE:America/Los_Angeles
PRODID:-//Hold My Ticket.//HMT Web App//EN
CALSCALE:GREGORIAN
METHOD:PUBLISH
X-WR-CALNAME:Downbeat Lounge
X-WR-CALDESC:Upcoming events at Downbeat Lounge
BEGIN:VTIMEZONE
TZID:America/Los_Angeles 
END:VTIMEZONE
BEGIN:VEVENT
SEQUENCE:2
TRANSP:OPAQUE
UID:65595ec85e8271c78102b2a3a514bd88
DTSTART:20190209T210000
DTSTAMP:20190209T170200Z
SUMMARY:EmoPartyHNL at Downbeat
DESCRIPTION:Celebrate the glory days of Myspace and the sounds of Blink 182, Rites of Spring, New Found Glory and more at #emopartyhnl present by City and Chainsaw Productions. Playing all the hits and bangers of the 90's and early 2000's.  

February 9
9pm
21+
$5

Downbeat Lounge
42 N Hotel Street
Honolulu, HI 96817

#emonighthnl is a dance party and celebration of the sub-scene of alternative rock from the 90's and early 2000's.

City &amp; Chainsaw Productions - concerts and other events based out of Honolulu, HI. Specializing in punk, hardcore, indie, ska, etc.
https://www.facebook.com/cityandchainsaw/
CREATED:20190209T170200Z
URL;VALUE=URI:http://holdmyticket.com/event/332110 

DTEND:20190210T010000
END:VEVENT
END:VCALENDAR