BEGIN:VCALENDAR
METHOD:PUBLISH
X-WR-TIMEZONE:America/Denver
PRODID:-//Hold My Ticket.//HMT Web App//EN
CALSCALE:GREGORIAN
METHOD:PUBLISH
X-WR-CALNAME:The Oriental Theater
X-WR-CALDESC:Upcoming events at The Oriental Theater
BEGIN:VTIMEZONE
TZID:America/Denver 
END:VTIMEZONE
BEGIN:VEVENT
SEQUENCE:2
TRANSP:OPAQUE
UID:9a98ced889e0c0b9ca9252439c47dd43
DTSTART:20190326T190000
DTSTAMP:20190326T140124Z
SUMMARY:National Paddling Film Festival Roadshow - Denver
DESCRIPTION:
CREATED:20190326T140124Z
URL;VALUE=URI:http://holdmyticket.com/event/332154 

DTEND:20190326T223000
END:VEVENT
END:VCALENDAR