BEGIN:VCALENDAR
METHOD:PUBLISH
X-WR-TIMEZONE:America/Los_Angeles
PRODID:-//Hold My Ticket.//HMT Web App//EN
CALSCALE:GREGORIAN
METHOD:PUBLISH
X-WR-CALNAME:Humboldt Brews
X-WR-CALDESC:Upcoming events at Humboldt Brews
BEGIN:VTIMEZONE
TZID:America/Los_Angeles 
END:VTIMEZONE
BEGIN:VEVENT
SEQUENCE:2
TRANSP:OPAQUE
UID:c455260e23740ff34f7f96018c2ba9cb
DTSTART:20190419T213000
DTSTAMP:20190419T184352Z
SUMMARY:Melvin Seals and JGB---Night One
DESCRIPTION:Melvin Seals has been a powerful presence in the music industry for over 30 years with a long-established reputation as a performer, recording artist and producer. Melvin is most revered for his powerful, high-spirited, Hammond B-3 organ, and keyboards in the Jerry Garcia Band. Melvin spun his B-3 magic with the Jerry Garcia Band for 18 years and in doing so helped pioneer and define what has now become "Jam Band Music". From blues to funk to rock to jazz, Melvin Seals serves up a tasty mix with a little R&amp;B and gospel thrown in to spice things up.

Melvin and JGB bring an intuitive, expressive style, soul, spontaneity and remarkable chops to the table. With acoustic and electric ingredients and unique combinations of Zach Nugent's guitar and vocals, Pete Lavezzoli's hearty drums and, of course, a heapin' helpin' of the wizard's magic on Hammond B-3 Organ and keyboards. Along with backing vocals, the result is a most satisfying blend of natural organic grooves that challenges genre boundaries. Their chemistry is the focus from which they create a spontaneous and high art where the sky is the limit musically. They offer an exciting, often psychedelic musical journey that changes nightly and keeps the audience dancing and smiling (and some staring in amazement) for hours.

In addition to the often played staples, the band has recently been exploring the back catalog and performing a ton of super rare tunes, some of which The Jerry Garcia Band played only a few times over all those years.

Adding his rock-gospel-soul-rhythm and blues touch with his funky style of playing, no wonder Jerry nicknamed him "Master of the Universe". Melvin continues to treat music lovers to his unique brand of melodic flavor with JGB. Come see and hear for yourself!
Melvin Seals - Organ, Vocals 
Pete Lavezzoli - Drums 
John-Paul McLean - Bass 
Zach Nugent - Guitar, Vocals
Lady Chi - Vocals   
Sunshine (Garcia) Becker - Vocals 
CREATED:20190419T184352Z
URL;VALUE=URI:http://holdmyticket.com/event/332228 

DTEND:20190420T010000
END:VEVENT
END:VCALENDAR