BEGIN:VCALENDAR
METHOD:PUBLISH
X-WR-TIMEZONE:America/Chicago
PRODID:-//Hold My Ticket.//HMT Web App//EN
CALSCALE:GREGORIAN
METHOD:PUBLISH
X-WR-CALNAME:Threadgill's 
X-WR-CALDESC:Upcoming events at Threadgill's 
BEGIN:VTIMEZONE
TZID:America/Chicago 
END:VTIMEZONE
BEGIN:VEVENT
SEQUENCE:2
TRANSP:OPAQUE
UID:dca88f8e40956487b9ef81a6288a19f3
DTSTART:20190215T200000
DTSTAMP:20190215T160143Z
SUMMARY:Toni Price
DESCRIPTION:Bring your valentine for a special evening of music from 2018 Austin Music Award Hall of Fame winner Toni Price.
CREATED:20190215T160143Z
URL;VALUE=URI:http://holdmyticket.com/event/332693 

DTEND:20190215T220000
END:VEVENT
END:VCALENDAR