BEGIN:VCALENDAR
METHOD:PUBLISH
X-WR-TIMEZONE:America/Los_Angeles
PRODID:-//Hold My Ticket.//HMT Web App//EN
CALSCALE:GREGORIAN
METHOD:PUBLISH
X-WR-CALNAME:Downbeat Lounge
X-WR-CALDESC:Upcoming events at Downbeat Lounge
BEGIN:VTIMEZONE
TZID:America/Los_Angeles 
END:VTIMEZONE
BEGIN:VEVENT
SEQUENCE:2
TRANSP:OPAQUE
UID:799b7d134d38cd47d2d1f6f013b1f8e9
DTSTART:20190214T190000
DTSTAMP:20190214T150106Z
SUMMARY:Karaoke at Downbeat Lounge
DESCRIPTION:Be a rock star with Karaoke at Downbeat Lounge. Get some liquid courage and use the Lounge's new karaoke machine. $1 a song.

February 14
7pm
21+
No Cover

Downbeat Lounge
42 N Hotel Street
Honolulu, HI 96817
CREATED:20190214T150106Z
URL;VALUE=URI:http://holdmyticket.com/event/332705 

DTEND:20190215T010000
END:VEVENT
END:VCALENDAR