BEGIN:VCALENDAR
METHOD:PUBLISH
X-WR-TIMEZONE:America/Los_Angeles
PRODID:-//Hold My Ticket.//HMT Web App//EN
CALSCALE:GREGORIAN
METHOD:PUBLISH
X-WR-CALNAME:Downbeat Lounge
X-WR-CALDESC:Upcoming events at Downbeat Lounge
BEGIN:VTIMEZONE
TZID:America/Los_Angeles 
END:VTIMEZONE
BEGIN:VEVENT
SEQUENCE:2
TRANSP:OPAQUE
UID:fbfe29e38eeb604fda62335d1640e31c
DTSTART:20190215T200000
DTSTAMP:20190215T160143Z
SUMMARY:Red City Radio and Rum Rebellion at Downbeat Lounge
DESCRIPTION:Oklahoma City's finest gruff punk band Red City Riot and Portlands "drunkest punk rock folk band" Rum Rebellion play Downbeat Lounge. Featuring local support from Rats, Super HiFi and Lame.

Presented by 808Shows.com, Belly of the Beast Productions and City &amp; Chainsaw Productions

February 15
8pm
18+
$15

Downbeat Lounge
42 N Hotel Street
Honolulu, HI 96817

Red City Riot is a heartland punk band from Oklahoma City, OK. Their new album - Skytigers - is currently out on Red Scare Records
https://www.facebook.com/redcityradio/
https://www.redcityradio.net/
https://redcityradio.bandcamp.com/

"Hailing from Portland, Oregon USA, Rum Rebellion is a peppery mix of Oi!, punk rock, and Celtic influences served up to you with a distinctive pirate twist. Comprised of members whose past musical endeavors include All Worked Up, Unstable Youth, P.R.O.B.L.E.M.S., Fire At Will, and Heathen Shrine, Rum Rebellion has transformed from humble street corner busking roots into a widely known touring act."
https://www.facebook.com/RumRebellionOfficial/
http://www.rumrebellion.net/

Rats is a punk project by Nick Danger, Jon Ness and Kat Guzman.
https://ratshawaii.bandcamp.com/releases
https://www.facebook.com/RATShawaii/

Lame is a post-punk band from Honolulu, HI 
https://www.facebook.com/lamehnl/

Super HiFi is a punk band from Honolulu, HI
https://www.facebook.com/superhifiband/
CREATED:20190215T160143Z
URL;VALUE=URI:http://holdmyticket.com/event/332831 

DTEND:20190216T020000
END:VEVENT
END:VCALENDAR