BEGIN:VCALENDAR
METHOD:PUBLISH
X-WR-TIMEZONE:America/Chicago
PRODID:-//Hold My Ticket.//HMT Web App//EN
CALSCALE:GREGORIAN
METHOD:PUBLISH
X-WR-CALNAME:Threadgill's 
X-WR-CALDESC:Upcoming events at Threadgill's 
BEGIN:VTIMEZONE
TZID:America/Chicago 
END:VTIMEZONE
BEGIN:VEVENT
SEQUENCE:2
TRANSP:OPAQUE
UID:0b7deee7b6e7c1f133d4ccec633b5cb4
DTSTART:20190208T200000
DTSTAMP:20190208T160203Z
SUMMARY:Songwriter Series: Cotton Mather
DESCRIPTION:Cotton Mather's music is brilliant fusion of The Beatles, Squeeze and other power pop influences both vintage and contemporary. Oasis guitarist and songwriter Noel Gallagher got a copy of their album "Kon Tiki", and was impressed. He helped promote Cotton Mather and asked them to tour with Oasis.
CREATED:20190208T160203Z
URL;VALUE=URI:http://holdmyticket.com/event/333310 

DTEND:20190208T220000
END:VEVENT
END:VCALENDAR