BEGIN:VCALENDAR
METHOD:PUBLISH
X-WR-TIMEZONE:America/Chicago
PRODID:-//Hold My Ticket.//HMT Web App//EN
CALSCALE:GREGORIAN
METHOD:PUBLISH
X-WR-CALNAME:Threadgill's 
X-WR-CALDESC:Upcoming events at Threadgill's 
BEGIN:VTIMEZONE
TZID:America/Chicago 
END:VTIMEZONE
BEGIN:VEVENT
SEQUENCE:2
TRANSP:OPAQUE
UID:91f40d7db564606fe2b8f0f3c11e95d1
DTSTART:20190216T200000
DTSTAMP:20190216T160130Z
SUMMARY:Songwriters Series: Van Wilks &amp; Josh Smith
DESCRIPTION:Van Wilks has long been lauded as one of the city's master guitar players. His talents as a guitarist and band leader have won him consistent critical praise and a string of honors that was capped when he was voted by Austin music fans into the Austin Chronicle's "Texas Music Hall of Fame" alongside the state's most legendary musical talents. He's joined by Josh Smith for our Songwriter Series, don't miss this show! 
CREATED:20190216T160130Z
URL;VALUE=URI:http://holdmyticket.com/event/333311 

DTEND:20190216T220000
END:VEVENT
END:VCALENDAR