BEGIN:VCALENDAR
METHOD:PUBLISH
X-WR-TIMEZONE:America/Denver
PRODID:-//Hold My Ticket.//HMT Web App//EN
CALSCALE:GREGORIAN
METHOD:PUBLISH
X-WR-CALNAME:Hodi's Half Note
X-WR-CALDESC:Upcoming events at Hodi's Half Note
BEGIN:VTIMEZONE
TZID:America/Denver 
END:VTIMEZONE
BEGIN:VEVENT
SEQUENCE:2
TRANSP:OPAQUE
UID:b96d9be59cccae6c6388444036c4b18b
DTSTART:20190910T200000
DTSTAMP:20190910T150112Z
SUMMARY:Millencolin
DESCRIPTION:
CREATED:20190910T150112Z
URL;VALUE=URI:http://holdmyticket.com/event/334112 

DTEND:20190910T234500
END:VEVENT
END:VCALENDAR