BEGIN:VCALENDAR
METHOD:PUBLISH
X-WR-TIMEZONE:America/Denver
PRODID:-//Hold My Ticket.//HMT Web App//EN
CALSCALE:GREGORIAN
METHOD:PUBLISH
X-WR-CALNAME:The Oriental Theater
X-WR-CALDESC:Upcoming events at The Oriental Theater
BEGIN:VTIMEZONE
TZID:America/Denver 
END:VTIMEZONE
BEGIN:VEVENT
SEQUENCE:2
TRANSP:OPAQUE
UID:111d6d428869a0df2fee02e1306b6bdd
DTSTART:20190412T190000
DTSTAMP:20190412T140113Z
SUMMARY:Pulp MX/Racer X Live Podcast 
DESCRIPTION:
CREATED:20190412T140113Z
URL;VALUE=URI:http://holdmyticket.com/event/334119 

DTEND:20190412T220000
END:VEVENT
END:VCALENDAR