BEGIN:VCALENDAR
METHOD:PUBLISH
X-WR-TIMEZONE:America/Chicago
PRODID:-//Hold My Ticket.//HMT Web App//EN
CALSCALE:GREGORIAN
METHOD:PUBLISH
X-WR-CALNAME:Threadgill's 
X-WR-CALDESC:Upcoming events at Threadgill's 
BEGIN:VTIMEZONE
TZID:America/Chicago 
END:VTIMEZONE
BEGIN:VEVENT
SEQUENCE:2
TRANSP:OPAQUE
UID:a74388d9e358b0c9179092fe7e152ab0
DTSTART:20190302T200000
DTSTAMP:20190302T160113Z
SUMMARY:Songwriters Series: Jim Scarborough Band
DESCRIPTION:Don't miss the Jim Scarborough band, featuring: Jim Scarborough, Glenn Rexach, Omar Boulden, Tina "Diamond" Turner, Jon Freeland Clayton and Aloysius, plus special guest Van Wilks.
CREATED:20190302T160113Z
URL;VALUE=URI:http://holdmyticket.com/event/334431 

DTEND:20190302T220000
END:VEVENT
END:VCALENDAR