BEGIN:VCALENDAR
METHOD:PUBLISH
X-WR-TIMEZONE:America/Chicago
PRODID:-//Hold My Ticket.//HMT Web App//EN
CALSCALE:GREGORIAN
METHOD:PUBLISH
X-WR-CALNAME:Threadgill's 
X-WR-CALDESC:Upcoming events at Threadgill's 
BEGIN:VTIMEZONE
TZID:America/Chicago 
END:VTIMEZONE
BEGIN:VEVENT
SEQUENCE:2
TRANSP:OPAQUE
UID:5eca65b072f060961275f819b605421d
DTSTART:20190322T200000
DTSTAMP:20190322T150111Z
SUMMARY:Songwriters Series: Sarah Sharp and Wilson Marks
DESCRIPTION:Sarah has recorded, performed, and composed in a variety of guises. She is a solo artist, a film and TV composer, and, most visibly, Sarah has been the stunning siren fronting the acclaimed combo the Jitterbug Vipers, a swinging act who specialize in conjuring playfully irreverent 30s and 40s jazz cool. Sarah is joined by the talented Wilson Marks, who studied jazz guitar in New Orleans and draws from many musical wells.
CREATED:20190322T150111Z
URL;VALUE=URI:http://holdmyticket.com/event/334432 

DTEND:20190322T220000
END:VEVENT
END:VCALENDAR