BEGIN:VCALENDAR
METHOD:PUBLISH
X-WR-TIMEZONE:America/Chicago
PRODID:-//Hold My Ticket.//HMT Web App//EN
CALSCALE:GREGORIAN
METHOD:PUBLISH
X-WR-CALNAME:Threadgill's 
X-WR-CALDESC:Upcoming events at Threadgill's 
BEGIN:VTIMEZONE
TZID:America/Chicago 
END:VTIMEZONE
BEGIN:VEVENT
SEQUENCE:2
TRANSP:OPAQUE
UID:6c9c635718b8681418dca46726fc69e9
DTSTART:20190329T200000
DTSTAMP:20190329T150111Z
SUMMARY:Songwriters Series: Ginger Leigh
DESCRIPTION:Ginger Leigh is an established musician and entrepreneur living in Austin, Texas. She has released 9 CDs (working on her 10th), has toured worldwide with her music and continues to grace stages locally and internationally. 
CREATED:20190329T150111Z
URL;VALUE=URI:http://holdmyticket.com/event/334433 

DTEND:20190329T220000
END:VEVENT
END:VCALENDAR