BEGIN:VCALENDAR
METHOD:PUBLISH
X-WR-TIMEZONE:America/Denver
PRODID:-//Hold My Ticket.//HMT Web App//EN
CALSCALE:GREGORIAN
METHOD:PUBLISH
X-WR-CALNAME:Taos Mesa Brewery-The MotherShip
X-WR-CALDESC:Upcoming events at Taos Mesa Brewery-The MotherShip
BEGIN:VTIMEZONE
TZID:America/Denver 
END:VTIMEZONE
BEGIN:VEVENT
SEQUENCE:2
TRANSP:OPAQUE
UID:4f547b8d958b51f26463a2661ec3eb66
DTSTART:20190517T110000
DTSTAMP:20190517T060143Z
SUMMARY:2 Day Festival &amp; Camping Pass
DESCRIPTION:
CREATED:20190517T060143Z
URL;VALUE=URI:http://holdmyticket.com/event/334468 

DTEND:20190518T003000
END:VEVENT
END:VCALENDAR