BEGIN:VCALENDAR
METHOD:PUBLISH
X-WR-TIMEZONE:America/Los_Angeles
PRODID:-//Hold My Ticket.//HMT Web App//EN
CALSCALE:GREGORIAN
METHOD:PUBLISH
X-WR-CALNAME:Humboldt Brews
X-WR-CALDESC:Upcoming events at Humboldt Brews
BEGIN:VTIMEZONE
TZID:America/Los_Angeles 
END:VTIMEZONE
BEGIN:VEVENT
SEQUENCE:2
TRANSP:OPAQUE
UID:d267bb100309d69d691164dcc2270484
DTSTART:20190329T210000
DTSTAMP:20190329T160113Z
SUMMARY:Lovebush / The Stallions
DESCRIPTION:Lovebush: 
A heady mix of true Fela Kuti style afrobeat and James Brown style funk. Dense rhythm section, soaring horns, funky dual guitars, moog moments, and more!

The Stallions:
The Stallions play the Boognish, brown sounds of Ween.. They always bring high energy and good vibes, in celebration of Deaner and Gener.
CREATED:20190329T160113Z
URL;VALUE=URI:http://holdmyticket.com/event/334652 

DTEND:20190330T010000
END:VEVENT
END:VCALENDAR