BEGIN:VCALENDAR
METHOD:PUBLISH
X-WR-TIMEZONE:America/Chicago
PRODID:-//Hold My Ticket.//HMT Web App//EN
CALSCALE:GREGORIAN
METHOD:PUBLISH
X-WR-CALNAME:ONE-2-ONE BAR
X-WR-CALDESC:Upcoming events at ONE-2-ONE BAR
BEGIN:VTIMEZONE
TZID:America/Chicago 
END:VTIMEZONE
BEGIN:VEVENT
SEQUENCE:2
TRANSP:OPAQUE
UID:41c927959084653f531134545b24718b
DTSTART:20190303T180000
DTSTAMP:20190303T140107Z
SUMMARY:Sunday Tardeada Series feat. Joe Zimmerle y Su Conjunto
DESCRIPTION:Rancho Alegre Radio's First Sunday Conjunto Tardeadas are back! Join us Sunday March 3rd as we return to One-2-One Bar!

Join us as we welcome Joe Zimmerle y Su Conjunto to One-2-One for the first time! After a couple of years with Los Thunderbirds, bandleader and drummer Joe Zimmerle is continuing the famous San Antonio Zimmerle family tradition with a rock-solid conjunto of his own, which he founded last year. The group has already recorded a couple of singles and is hard at work on their first album. You'll love their classic west side San Anto sound easy going vibe - PERFECT for a tardeada!

$7 cover, doors open at 5:30pm, music from 6 to 8 p.m. 

You can bring your own food, but not your own drink. Be sure to tip the bartenders!

One-2-One Bar is located at 1509 S. Lamar, Suite 600, on South Lamar between Oltorf and Barton Springs. 

Come on out, invite your friends!
CREATED:20190303T140107Z
URL;VALUE=URI:http://holdmyticket.com/event/334869 

DTEND:20190303T200000
END:VEVENT
END:VCALENDAR