BEGIN:VCALENDAR
METHOD:PUBLISH
X-WR-TIMEZONE:America/Shiprock
PRODID:-//Hold My Ticket.//HMT Web App//EN
CALSCALE:GREGORIAN
METHOD:PUBLISH
X-WR-CALNAME:Kit Carson Park
X-WR-CALDESC:Upcoming events at Kit Carson Park
BEGIN:VTIMEZONE
TZID:America/Shiprock 
END:VTIMEZONE
BEGIN:VEVENT
SEQUENCE:2
TRANSP:OPAQUE
UID:21a3d5fa2c1160232abbb3d6c3348b8e
DTSTART:20190706T180000
DTSTAMP:20190706T201204Z
SUMMARY:The Mavericks &amp; Los Lobos
DESCRIPTION:As Entertainment Weekly noted in 2017, "'What kind of music do The Mavericks record?' is a question with no real answer. On the one hand, the Miami-bred outfit records bits of everything: Elvis Presley-esque rock, Roy Orbison-style balladry, Latin-fusion party tunes, throwback country, irresistible pop. On the other hand... a vocabulary for their style remains out of reach."  Los Lobos were already East L.A. neighborhood legends, Sunset Strip regulars and a Grammy Award winning band (Best Mexican-American/Tejano Music Performance) by the time they recorded their major label debut "How Will The Wolf Survive?" in 1984. Max Gomez will open the show.
CREATED:20190706T201204Z
URL;VALUE=URI:http://holdmyticket.com/event/334885 

DTEND:20190706T220000
END:VEVENT
END:VCALENDAR