BEGIN:VCALENDAR
METHOD:PUBLISH
X-WR-TIMEZONE:America/Denver
PRODID:-//Hold My Ticket.//HMT Web App//EN
CALSCALE:GREGORIAN
METHOD:PUBLISH
X-WR-CALNAME:The Bridge (Inside at Santa Fe Brewing Company)
X-WR-CALDESC:Upcoming events at The Bridge (Inside at Santa Fe Brewing Company)
BEGIN:VTIMEZONE
TZID:America/Denver 
END:VTIMEZONE
BEGIN:VEVENT
SEQUENCE:2
TRANSP:OPAQUE
UID:9ca6ce12c52b6bee9764905ad7b56b56
DTSTART:20190324T200000
DTSTAMP:20190324T150105Z
SUMMARY:Black Uhuru
DESCRIPTION:Derrick "Duckie" Simpson, the "Gong Gong Gullie," is the founder and leader for reggae's Black Uhuru. Although going through numerous lead singers and musicians, they have remained to be one of the most recognized and prolific reggae band for over 50 years. Innastate will open the show.
CREATED:20190324T150105Z
URL;VALUE=URI:http://holdmyticket.com/event/335055 

DTEND:20190324T223000
END:VEVENT
END:VCALENDAR