BEGIN:VCALENDAR
METHOD:PUBLISH
X-WR-TIMEZONE:America/Denver
PRODID:-//Hold My Ticket.//HMT Web App//EN
CALSCALE:GREGORIAN
METHOD:PUBLISH
X-WR-CALNAME:The Oriental Theater
X-WR-CALDESC:Upcoming events at The Oriental Theater
BEGIN:VTIMEZONE
TZID:America/Denver 
END:VTIMEZONE
BEGIN:VEVENT
SEQUENCE:2
TRANSP:OPAQUE
UID:7a990deb18259d601390a96366f1cf0c
DTSTART:20190312T183000
DTSTAMP:20190312T140142Z
SUMMARY:A Night to Survive: Right to Survive Campaign Kickoff
DESCRIPTION:
CREATED:20190312T140142Z
URL;VALUE=URI:http://holdmyticket.com/event/335617 

DTEND:20190312T223000
END:VEVENT
END:VCALENDAR