BEGIN:VCALENDAR
METHOD:PUBLISH
X-WR-TIMEZONE:America/Shiprock
PRODID:-//Hold My Ticket.//HMT Web App//EN
CALSCALE:GREGORIAN
METHOD:PUBLISH
X-WR-CALNAME:Kit Carson Park
X-WR-CALDESC:Upcoming events at Kit Carson Park
BEGIN:VTIMEZONE
TZID:America/Shiprock 
END:VTIMEZONE
BEGIN:VEVENT
SEQUENCE:2
TRANSP:OPAQUE
UID:9f567203d3a24ccd885d68cb8f7f1be6
DTSTART:20190704T163000
DTSTAMP:20190704T120200Z
SUMMARY:FREE 4th of July with WAR &amp; Ozomatli
DESCRIPTION:The Town of Taos Facilities and Events Department, Taos Volunteer Fire Department and AMP Concerts presents a Taos Hometown 4th of July Celebration featuring Latin Soul legends WAR together with old friends, Latin Grammy winners Ozomatli. Free concert followed by Fireworks in the heart of downtown Taos at Kit carson Park.  It's going to ba be the best Fourth of July party in New Mexico! Don't miss it!
CREATED:20190704T120200Z
URL;VALUE=URI:http://holdmyticket.com/event/335837 

DTEND:20190704T220000
END:VEVENT
END:VCALENDAR