BEGIN:VCALENDAR
METHOD:PUBLISH
X-WR-TIMEZONE:America/Denver
PRODID:-//Hold My Ticket.//HMT Web App//EN
CALSCALE:GREGORIAN
METHOD:PUBLISH
X-WR-CALNAME:Erna Fergusson Library
X-WR-CALDESC:Upcoming events at Erna Fergusson Library
BEGIN:VTIMEZONE
TZID:America/Denver 
END:VTIMEZONE
BEGIN:VEVENT
SEQUENCE:2
TRANSP:OPAQUE
UID:345e8f54b0e977164a061b642467408e
DTSTART:20190610T180000
DTSTAMP:20190610T130147Z
SUMMARY:Carol &amp; Leila - Las Flores del Valle
DESCRIPTION:Leila Flores-Dueñas &amp; Carol Vigil of Las Flores del Valle (The Flowers of the Valley) have been making music together for more than 10 years at venues that range from the Gene Autry Theatre in L.A. and the National Hispanic Cultural Center to public school classrooms. Whether they are singing for huge audiences or private guests, they are sure to deliver smooth harmonies and thoughtful tunes with passion and heartfelt joy. 
CREATED:20190610T130147Z
URL;VALUE=URI:http://holdmyticket.com/event/335885 

DTEND:20190610T190000
END:VEVENT
END:VCALENDAR