BEGIN:VCALENDAR
METHOD:PUBLISH
X-WR-TIMEZONE:America/Denver
PRODID:-//Hold My Ticket.//HMT Web App//EN
CALSCALE:GREGORIAN
METHOD:PUBLISH
X-WR-CALNAME:Streets Denver
X-WR-CALDESC:Upcoming events at Streets Denver
BEGIN:VTIMEZONE
TZID:America/Denver 
END:VTIMEZONE
BEGIN:VEVENT
SEQUENCE:2
TRANSP:OPAQUE
UID:494589b207faa14c49009475d08415fd
DTSTART:20190314T210000
DTSTAMP:20190314T160132Z
SUMMARY:MF Ruckus
DESCRIPTION:MF Ruckus, hometown rock faves, storm the Streets stage for a special show with some secret friends to kick off the lead in to the St Patrick's Day weekend.
CREATED:20190314T160132Z
URL;VALUE=URI:http://holdmyticket.com/event/336084 

DTEND:20190315T010000
END:VEVENT
END:VCALENDAR