BEGIN:VCALENDAR
METHOD:PUBLISH
X-WR-TIMEZONE:America/Denver
PRODID:-//Hold My Ticket.//HMT Web App//EN
CALSCALE:GREGORIAN
METHOD:PUBLISH
X-WR-CALNAME:Meow Wolf
X-WR-CALDESC:Upcoming events at Meow Wolf
BEGIN:VTIMEZONE
TZID:America/Denver 
END:VTIMEZONE
BEGIN:VEVENT
SEQUENCE:2
TRANSP:OPAQUE
UID:3328ee5f72064193f944a21a7b721b91
DTSTART:20190924T203000
DTSTAMP:20190925T113907Z
SUMMARY:Russian Circles - Blood Year North American Tour
DESCRIPTION:
CREATED:20190925T113907Z
URL;VALUE=URI:http://holdmyticket.com/event/336446 

DTEND:20190924T230000
END:VEVENT
END:VCALENDAR