BEGIN:VCALENDAR
METHOD:PUBLISH
X-WR-TIMEZONE:America/Los_Angeles
PRODID:-//Hold My Ticket.//HMT Web App//EN
CALSCALE:GREGORIAN
METHOD:PUBLISH
X-WR-CALNAME:Eagle House
X-WR-CALDESC:Upcoming events at Eagle House
BEGIN:VTIMEZONE
TZID:America/Los_Angeles 
END:VTIMEZONE
BEGIN:VEVENT
SEQUENCE:2
TRANSP:OPAQUE
UID:6ba3a422ffa201536f78b65778ad8711
DTSTART:20190427T220000
DTSTAMP:20190427T170134Z
SUMMARY:Del The Funky Homosapien 
DESCRIPTION:
CREATED:20190427T170134Z
URL;VALUE=URI:http://holdmyticket.com/event/336924 

DTEND:20190428T040000
END:VEVENT
END:VCALENDAR