BEGIN:VCALENDAR
METHOD:PUBLISH
X-WR-TIMEZONE:America/Los_Angeles
PRODID:-//Hold My Ticket.//HMT Web App//EN
CALSCALE:GREGORIAN
METHOD:PUBLISH
X-WR-CALNAME:Tonic Lounge
X-WR-CALDESC:Upcoming events at Tonic Lounge
BEGIN:VTIMEZONE
TZID:America/Los_Angeles 
END:VTIMEZONE
BEGIN:VEVENT
SEQUENCE:2
TRANSP:OPAQUE
UID:b1153bf9b5c7f058a848feffbb8dffd7
DTSTART:20190404T190000
DTSTAMP:20190404T140124Z
SUMMARY:Out From The Shadows V - Weekend Pass
DESCRIPTION:
CREATED:20190404T140124Z
URL;VALUE=URI:http://holdmyticket.com/event/336944 

DTEND:20190407T010000
END:VEVENT
END:VCALENDAR