BEGIN:VCALENDAR
METHOD:PUBLISH
X-WR-TIMEZONE:America/Denver
PRODID:-//Hold My Ticket.//HMT Web App//EN
CALSCALE:GREGORIAN
METHOD:PUBLISH
X-WR-CALNAME:Egyptian Theatre
X-WR-CALDESC:Upcoming events at Egyptian Theatre
BEGIN:VTIMEZONE
TZID:America/Denver 
END:VTIMEZONE
BEGIN:VEVENT
SEQUENCE:2
TRANSP:OPAQUE
UID:1d374e6b446e595abfc9ed8c7e6d0834
DTSTART:20190316T200000
DTSTAMP:20190316T150117Z
SUMMARY:The Legendary Iron Butterfly - Soul Experience Tour
DESCRIPTION:
CREATED:20190316T150117Z
URL;VALUE=URI:http://holdmyticket.com/event/337003 

DTEND:20190316T220000
END:VEVENT
END:VCALENDAR