BEGIN:VCALENDAR
METHOD:PUBLISH
X-WR-TIMEZONE:America/Los_Angeles
PRODID:-//Hold My Ticket.//HMT Web App//EN
CALSCALE:GREGORIAN
METHOD:PUBLISH
X-WR-CALNAME:Humboldt Brews
X-WR-CALDESC:Upcoming events at Humboldt Brews
BEGIN:VTIMEZONE
TZID:America/Los_Angeles 
END:VTIMEZONE
BEGIN:VEVENT
SEQUENCE:2
TRANSP:OPAQUE
UID:f670229231ece9298674549c734d16d1
DTSTART:20190319T183000
DTSTAMP:20190319T140102Z
SUMMARY:Lavender Rose Paint Night
DESCRIPTION:Join us for a Lavender Rose Paint Party at Humbrews / Humboldt Brews! Tues March 19th at 6:30pm in Arcata, CA. One price includes your paint, step-by-step instructions, and use of all necessary supplies. Bring your appetite and thirst! Full restaurant and bar on site! Delicious local brews &amp; food!  

You will leave with a beautiful completed masterpiece! This is super fun solo or with a group of friends &amp; family! Space is limited and will be filled in order of RSVP via private message to me.m/LavenderRosePaintNights  

Price is $35 pp (cash only please)  

RSVP is required to guarantee your seat.  

707-599-0471 
CREATED:20190319T140102Z
URL;VALUE=URI:http://holdmyticket.com/event/337054 

DTEND:20190319T213000
END:VEVENT
END:VCALENDAR