BEGIN:VCALENDAR
METHOD:PUBLISH
X-WR-TIMEZONE:America/Shiprock
PRODID:-//Hold My Ticket.//HMT Web App//EN
CALSCALE:GREGORIAN
METHOD:PUBLISH
X-WR-CALNAME:Kit Carson Park
X-WR-CALDESC:Upcoming events at Kit Carson Park
BEGIN:VTIMEZONE
TZID:America/Shiprock 
END:VTIMEZONE
BEGIN:VEVENT
SEQUENCE:2
TRANSP:OPAQUE
UID:b4beb8b185dfdf2c896bf72516727817
DTSTART:20190705T180000
DTSTAMP:20190705T130147Z
SUMMARY:Lake Street Dive with Jake Shimabukuro
DESCRIPTION:With their singular mix of soul and R&amp;B and wholehearted rock &amp; roll, Lake Street Dive make music that's timeless yet immediate, exuberant yet reflective. In the 15 years since their formation, the band's infectious vitality has only magnified in appeal, as proven with the release of their 2018 album "Free Yourself Up." Along with earning lavish acclaim, the Boston-bred act's most recent full-length debuted in the top ten on the Billboard 200, and spent a virtually unprecedented seven-and-a-half months on the non-commercial radio charts. Beat Root Revival and ukelele great Jake Shimabukuro will open the show.
CREATED:20190705T130147Z
URL;VALUE=URI:http://holdmyticket.com/event/337102 

DTEND:20190705T220000
END:VEVENT
END:VCALENDAR