BEGIN:VCALENDAR
METHOD:PUBLISH
X-WR-TIMEZONE:America/Los_Angeles
PRODID:-//Hold My Ticket.//HMT Web App//EN
CALSCALE:GREGORIAN
METHOD:PUBLISH
X-WR-CALNAME:Thee Parkside
X-WR-CALDESC:Upcoming events at Thee Parkside
BEGIN:VTIMEZONE
TZID:America/Los_Angeles 
END:VTIMEZONE
BEGIN:VEVENT
SEQUENCE:2
TRANSP:OPAQUE
UID:6a336416b900d8ef08fbd9fe2654726b
DTSTART:20190713T200000
DTSTAMP:20190713T150116Z
SUMMARY:**SHOW MOVED TO DNA LOUNGE** Have A Nice Life, Planning for Burial, Consumer 
DESCRIPTION:
CREATED:20190713T150116Z
URL;VALUE=URI:http://holdmyticket.com/event/337111 

DTEND:20190714T020000
END:VEVENT
END:VCALENDAR