BEGIN:VCALENDAR
METHOD:PUBLISH
X-WR-TIMEZONE:America/Denver
PRODID:-//Hold My Ticket.//HMT Web App//EN
CALSCALE:GREGORIAN
METHOD:PUBLISH
X-WR-CALNAME:The Oriental Theater
X-WR-CALDESC:Upcoming events at The Oriental Theater
BEGIN:VTIMEZONE
TZID:America/Denver 
END:VTIMEZONE
BEGIN:VEVENT
SEQUENCE:2
TRANSP:OPAQUE
UID:4a87966e527594ac60fec0e2a10c20d2
DTSTART:20190418T200000
DTSTAMP:20190418T150201Z
SUMMARY:Mortified Live!
DESCRIPTION:
CREATED:20190418T150201Z
URL;VALUE=URI:http://holdmyticket.com/event/337286 

DTEND:20190418T234500
END:VEVENT
END:VCALENDAR