BEGIN:VCALENDAR
METHOD:PUBLISH
X-WR-TIMEZONE:America/Chicago
PRODID:-//Hold My Ticket.//HMT Web App//EN
CALSCALE:GREGORIAN
METHOD:PUBLISH
X-WR-CALNAME:ONE-2-ONE BAR
X-WR-CALDESC:Upcoming events at ONE-2-ONE BAR
BEGIN:VTIMEZONE
TZID:America/Chicago 
END:VTIMEZONE
BEGIN:VEVENT
SEQUENCE:2
TRANSP:OPAQUE
UID:7ddf513f2e93b897e2507f476b7bdfae
DTSTART:20190504T213000
DTSTAMP:20190504T170106Z
SUMMARY:Marcus Rezak feat. Jeff Franca of Thievery Corporation
DESCRIPTION:9:00 Doors
9:30pm Shred Is Dead
10:45pm Bourgeois Mystics
12am Marcus Rezak ft. Jeff Franca of Thievery Corporation 
$10 Adv/ $15 DOS
CREATED:20190504T170106Z
URL;VALUE=URI:http://holdmyticket.com/event/337318 

DTEND:20190505T020000
END:VEVENT
END:VCALENDAR