BEGIN:VCALENDAR
METHOD:PUBLISH
X-WR-TIMEZONE:America/Chicago
PRODID:-//Hold My Ticket.//HMT Web App//EN
CALSCALE:GREGORIAN
METHOD:PUBLISH
X-WR-CALNAME:Threadgill's 
X-WR-CALDESC:Upcoming events at Threadgill's 
BEGIN:VTIMEZONE
TZID:America/Chicago 
END:VTIMEZONE
BEGIN:VEVENT
SEQUENCE:2
TRANSP:OPAQUE
UID:804b858353d14b4f82efdc856b638d46
DTSTART:20190406T200000
DTSTAMP:20190406T150114Z
SUMMARY:Songwriters Series: Giulia Millanta
DESCRIPTION:Originally from Florence, Italy, Giulia Millanta is a traveler, writer, and a performer who uses her own unique style in combination with various genres to craft music that connects cultures. She plays guitar, ukulele and she sings in four languages--Italian, English, French and Spanish. 
CREATED:20190406T150114Z
URL;VALUE=URI:http://holdmyticket.com/event/337394 

DTEND:20190406T220000
END:VEVENT
END:VCALENDAR