BEGIN:VCALENDAR
METHOD:PUBLISH
X-WR-TIMEZONE:America/Chicago
PRODID:-//Hold My Ticket.//HMT Web App//EN
CALSCALE:GREGORIAN
METHOD:PUBLISH
X-WR-CALNAME:Threadgill's 
X-WR-CALDESC:Upcoming events at Threadgill's 
BEGIN:VTIMEZONE
TZID:America/Chicago 
END:VTIMEZONE
BEGIN:VEVENT
SEQUENCE:2
TRANSP:OPAQUE
UID:ca9caa06166b74b8ce589d0f3c8a5428
DTSTART:20190413T200000
DTSTAMP:20190413T150118Z
SUMMARY:Songwriters Series: Jenny Reynolds, Michael Fracasso, &amp; Billy Crocket
DESCRIPTION:Don't miss a night of incredible music from Jenny Reynolds, Michael Fracasso, and Billy Crocket, sharing stories and their incredible song writing skills with us during our Songwriters Series. 

CREATED:20190413T150118Z
URL;VALUE=URI:http://holdmyticket.com/event/337397 

DTEND:20190413T220000
END:VEVENT
END:VCALENDAR