BEGIN:VCALENDAR
METHOD:PUBLISH
X-WR-TIMEZONE:America/Chicago
PRODID:-//Hold My Ticket.//HMT Web App//EN
CALSCALE:GREGORIAN
METHOD:PUBLISH
X-WR-CALNAME:Threadgill's 
X-WR-CALDESC:Upcoming events at Threadgill's 
BEGIN:VTIMEZONE
TZID:America/Chicago 
END:VTIMEZONE
BEGIN:VEVENT
SEQUENCE:2
TRANSP:OPAQUE
UID:b8afd9de08b1609c038ebf58e1d157db
DTSTART:20190419T200000
DTSTAMP:20190419T150151Z
SUMMARY:Songwriters Series: Michael Hearne &amp; Shake Russell
DESCRIPTION:Michael Hearne and Shake Russell have joined forces on their first duo recording - "Only As Strong As Your Dreams" released on Howlin' Dog Records! Come out for an evening of incredible music and food. 

CREATED:20190419T150151Z
URL;VALUE=URI:http://holdmyticket.com/event/337399 

DTEND:20190419T220000
END:VEVENT
END:VCALENDAR