BEGIN:VCALENDAR
METHOD:PUBLISH
X-WR-TIMEZONE:America/Chicago
PRODID:-//Hold My Ticket.//HMT Web App//EN
CALSCALE:GREGORIAN
METHOD:PUBLISH
X-WR-CALNAME:Threadgill's 
X-WR-CALDESC:Upcoming events at Threadgill's 
BEGIN:VTIMEZONE
TZID:America/Chicago 
END:VTIMEZONE
BEGIN:VEVENT
SEQUENCE:2
TRANSP:OPAQUE
UID:6046195c1bd9f927fb1b3f120f8a448d
DTSTART:20190427T200000
DTSTAMP:20190427T150136Z
SUMMARY:Songwriters Series: Toni Price
DESCRIPTION:Winner of the 2018 Austin Music Award Hall of Fame, Toni Price brings her vocal styling to Threadgills, don't miss it.

CREATED:20190427T150136Z
URL;VALUE=URI:http://holdmyticket.com/event/337402 

DTEND:20190427T220000
END:VEVENT
END:VCALENDAR