BEGIN:VCALENDAR
METHOD:PUBLISH
X-WR-TIMEZONE:America/Chicago
PRODID:-//Hold My Ticket.//HMT Web App//EN
CALSCALE:GREGORIAN
METHOD:PUBLISH
X-WR-CALNAME:ONE-2-ONE BAR
X-WR-CALDESC:Upcoming events at ONE-2-ONE BAR
BEGIN:VTIMEZONE
TZID:America/Chicago 
END:VTIMEZONE
BEGIN:VEVENT
SEQUENCE:2
TRANSP:OPAQUE
UID:4be75b8203285370cb1a1d6f6bfaee14
DTSTART:20190419T200000
DTSTAMP:20190419T150151Z
SUMMARY:Koodookoo, Zoofunkyou &amp; TryMore MOJO
DESCRIPTION:Doors 7
Zoofunkyou 8pm
https://www.facebook.com/zoofunkyou/
Koodookoo 9.15pm
https://www.facebook.com/koodookooband/
TryMoreMOJO 11pm
https://www.facebook.com/trymoremojo/
$5 Early Bird (5 available)
$7 Advance
$10 Day of Show
CREATED:20190419T150151Z
URL;VALUE=URI:http://holdmyticket.com/event/337453 

DTEND:20190420T020000
END:VEVENT
END:VCALENDAR